BEGIN:VCALENDAR
VERSION:2.0
PRODID:-//Tukios.com/
BEGIN:VEVENT
UID:e2be8b38-6d10-43fb-a88f-87f809a23e6a@www.danielsknopp.com
DTSTAMP:20260422T023233Z
DTSTART:20260424T170000Z
DTEND:20260424T180000Z
SUMMARY:Graveside Service
DESCRIPTION:
URL:https://www.danielsknopp.com/obituaries/charlotte-girdner
LOCATION:Cove Cemetery   Mill Creek Road  Cove OR 97824
GEO:45.2918968;-117.803474
END:VEVENT
END:VCALENDAR