BEGIN:VCALENDAR
VERSION:2.0
PRODID:-//Tukios.com/
BEGIN:VEVENT
UID:a7542160-974b-46e9-a46f-edaaa51fd666@www.danielsknopp.com
DTSTAMP:20260421T214622Z
DTSTART:20260523T163000Z
DTEND:20260523T173000Z
SUMMARY:Celebration of Life
DESCRIPTION:
URL:https://www.danielsknopp.com/obituaries/dale-loren-basso
LOCATION:Presbyterian Friendship Center  1204 Spring Avenue  La Grande OR 
	97850
GEO:45.3263448;-118.0938996
END:VEVENT
END:VCALENDAR